BEGIN:VCALENDAR
VERSION:2.0
PRODID:-//www.morrisedfoundation.org//NONSGML kigkonsult.se iCalcreator 2.3
 0.10//
CALSCALE:GREGORIAN
METHOD:PUBLISH
UID:fb2cbca3-2b5a-4f78-b14c-a488a262711a
X-WR-CALDESC:
X-WR-RELCALID:6fc0c51d03698f8169413dd3d59f5ddf
X-WR-TIMEZONE:America/New_York
BEGIN:VTIMEZONE
TZID:America/New_York
BEGIN:STANDARD
TZNAME:EST
DTSTART:20231105T020000
TZOFFSETFROM:-0400
TZOFFSETTO:-0500
RDATE:20241103T020000
END:STANDARD
BEGIN:DAYLIGHT
TZNAME:EDT
DTSTART:20230312T020000
TZOFFSETFROM:-0500
TZOFFSETTO:-0400
RDATE:20240310T020000
RDATE:20250309T020000
END:DAYLIGHT
END:VTIMEZONE
BEGIN:VEVENT
UID:d044d4d7-3d21-473f-a914-f95c196f9a34
DTSTAMP:20260420T135853Z
DESCRIPTION:
DTSTART;TZID=America/New_York:20231120T193000
DTEND;TZID=America/New_York:20231120T213000
LOCATION:Morristown High School
SUMMARY:MSD Board of Education Meeting
END:VEVENT
END:VCALENDAR
