BEGIN:VCALENDAR
VERSION:2.0
PRODID:-//www.morrisedfoundation.org//NONSGML kigkonsult.se iCalcreator 2.3
 0.10//
CALSCALE:GREGORIAN
METHOD:PUBLISH
UID:6c853134-092e-4620-80b6-34b14e5861bd
X-WR-CALDESC:
X-WR-RELCALID:2299741a77d63a6190b92b567db2b195
X-WR-TIMEZONE:America/New_York
BEGIN:VTIMEZONE
TZID:America/New_York
BEGIN:STANDARD
TZNAME:EST
DTSTART:20221106T020000
TZOFFSETFROM:-0400
TZOFFSETTO:-0500
RDATE:20231105T020000
RDATE:20241103T020000
END:STANDARD
BEGIN:DAYLIGHT
TZNAME:EDT
DTSTART:20230312T020000
TZOFFSETFROM:-0500
TZOFFSETTO:-0400
RDATE:20240310T020000
END:DAYLIGHT
END:VTIMEZONE
BEGIN:VEVENT
UID:d6e88e43-9657-4fe0-983a-7ca10385adbf
DTSTAMP:20260424T014422Z
DESCRIPTION:
DTSTART;TZID=America/New_York:20230724T193000
DTEND;TZID=America/New_York:20230724T213000
LOCATION:Morristown High School
SUMMARY:MSD Board of Education Meeting
END:VEVENT
END:VCALENDAR
