BEGIN:VCALENDAR
VERSION:2.0
PRODID:-//www.morrisedfoundation.org//NONSGML kigkonsult.se iCalcreator 2.3
 0.10//
CALSCALE:GREGORIAN
METHOD:PUBLISH
UID:984a576e-5dc4-494f-ac68-b1d009f1f86d
X-WR-CALDESC:
X-WR-RELCALID:8e2eaac89d0762038090ac364bcc303c
X-WR-TIMEZONE:America/New_York
BEGIN:VTIMEZONE
TZID:America/New_York
BEGIN:STANDARD
TZNAME:EST
DTSTART:20221106T020000
TZOFFSETFROM:-0400
TZOFFSETTO:-0500
RDATE:20231105T020000
END:STANDARD
BEGIN:DAYLIGHT
TZNAME:EDT
DTSTART:20230312T020000
TZOFFSETFROM:-0500
TZOFFSETTO:-0400
RDATE:20240310T020000
END:DAYLIGHT
END:VTIMEZONE
BEGIN:VEVENT
UID:81dc1ef3-eef5-40e9-aa63-51bb17fa41ec
DTSTAMP:20260420T144037Z
DESCRIPTION:
DTSTART;TZID=America/New_York:20230403T173000
DTEND;TZID=America/New_York:20230403T183000
LOCATION:
SUMMARY:MEF Board Governance
END:VEVENT
END:VCALENDAR
