BEGIN:VCALENDAR
VERSION:2.0
PRODID:-//www.morrisedfoundation.org//NONSGML kigkonsult.se iCalcreator 2.3
 0.10//
CALSCALE:GREGORIAN
METHOD:PUBLISH
UID:807f9ede-9eef-4384-b77c-5e00a8acb314
X-WR-CALDESC:
X-WR-RELCALID:bb4fce07115800e8ab6970fca8d35a67
X-WR-TIMEZONE:America/New_York
BEGIN:VTIMEZONE
TZID:America/New_York
BEGIN:STANDARD
TZNAME:EST
DTSTART:20221106T020000
TZOFFSETFROM:-0400
TZOFFSETTO:-0500
RDATE:20231105T020000
END:STANDARD
BEGIN:DAYLIGHT
TZNAME:EDT
DTSTART:20220313T020000
TZOFFSETFROM:-0500
TZOFFSETTO:-0400
RDATE:20230312T020000
RDATE:20240310T020000
END:DAYLIGHT
END:VTIMEZONE
BEGIN:VEVENT
UID:f087f33f-e05d-44dd-bd45-ac65dcb24434
DTSTAMP:20260425T020623Z
DESCRIPTION:
DTSTART;TZID=America/New_York:20221129T190000
DTEND;TZID=America/New_York:20221129T210000
LOCATION:via Zoom
SUMMARY:MOS Committee
END:VEVENT
END:VCALENDAR
