BEGIN:VCALENDAR
VERSION:2.0
PRODID:-//www.morrisedfoundation.org//NONSGML kigkonsult.se iCalcreator 2.3
 0.10//
CALSCALE:GREGORIAN
METHOD:PUBLISH
UID:306aeec3-97be-40a5-a384-062b201989da
X-WR-CALDESC:
X-WR-RELCALID:8df2cb0e18ef56af8f255b579d8998d1
X-WR-TIMEZONE:America/New_York
BEGIN:VTIMEZONE
TZID:America/New_York
BEGIN:STANDARD
TZNAME:EST
DTSTART:20211107T020000
TZOFFSETFROM:-0400
TZOFFSETTO:-0500
RDATE:20221106T020000
END:STANDARD
BEGIN:DAYLIGHT
TZNAME:EDT
DTSTART:20210314T020000
TZOFFSETFROM:-0500
TZOFFSETTO:-0400
RDATE:20220313T020000
RDATE:20230312T020000
END:DAYLIGHT
END:VTIMEZONE
BEGIN:VEVENT
UID:aba53326-3cfb-4615-8ab1-369f040e3285
DTSTAMP:20260424T144311Z
DESCRIPTION:
DTSTART;TZID=America/New_York:20211208T180000
DTEND;TZID=America/New_York:20211208T210000
LOCATION:
SUMMARY:MEF Board Meeting
END:VEVENT
END:VCALENDAR
