BEGIN:VCALENDAR
VERSION:2.0
PRODID:-//www.morrisedfoundation.org//NONSGML kigkonsult.se iCalcreator 2.3
 0.10//
CALSCALE:GREGORIAN
METHOD:PUBLISH
UID:93b36d07-0f30-489a-a2ae-2c0de1fc7988
X-WR-CALDESC:
X-WR-RELCALID:e9d9bf5ad277d77ef2c22040bb519b6d
X-WR-TIMEZONE:America/New_York
BEGIN:VTIMEZONE
TZID:America/New_York
BEGIN:STANDARD
TZNAME:EST
DTSTART:20201101T020000
TZOFFSETFROM:-0400
TZOFFSETTO:-0500
RDATE:20211107T020000
RDATE:20221106T020000
END:STANDARD
BEGIN:DAYLIGHT
TZNAME:EDT
DTSTART:20210314T020000
TZOFFSETFROM:-0500
TZOFFSETTO:-0400
RDATE:20220313T020000
RDATE:20230312T020000
END:DAYLIGHT
END:VTIMEZONE
BEGIN:VEVENT
UID:919d9753-79e0-4dcf-b7c2-f81ebf03dd42
DTSTAMP:20260424T234045Z
DESCRIPTION:
DTSTART;TZID=America/New_York:20211006T163000
DTEND;TZID=America/New_York:20211006T173000
LOCATION:
SUMMARY:MEF Finance Committee
END:VEVENT
END:VCALENDAR
