BEGIN:VCALENDAR
VERSION:2.0
PRODID:-//www.morrisedfoundation.org//NONSGML kigkonsult.se iCalcreator 2.3
 0.10//
CALSCALE:GREGORIAN
METHOD:PUBLISH
UID:bced6980-84db-4110-b15a-21964c11f714
X-WR-CALDESC:
X-WR-RELCALID:bd618777389ed02c0091846b9b2aebe1
X-WR-TIMEZONE:America/New_York
BEGIN:VTIMEZONE
TZID:America/New_York
BEGIN:STANDARD
TZNAME:EST
DTSTART:20201101T020000
TZOFFSETFROM:-0400
TZOFFSETTO:-0500
RDATE:20211107T020000
END:STANDARD
BEGIN:DAYLIGHT
TZNAME:EDT
DTSTART:20200308T020000
TZOFFSETFROM:-0500
TZOFFSETTO:-0400
RDATE:20210314T020000
RDATE:20220313T020000
END:DAYLIGHT
END:VTIMEZONE
BEGIN:VEVENT
UID:6d977cfe-d1f0-4a10-87b8-c2e3d0eea69d
DTSTAMP:20260424T102933Z
DESCRIPTION:
DTSTART;TZID=America/New_York:20210111T100000
DTEND;TZID=America/New_York:20210111T120000
LOCATION:
SUMMARY:Executive Committee Meeting
END:VEVENT
END:VCALENDAR
