BEGIN:VCALENDAR
VERSION:2.0
PRODID:-//www.morrisedfoundation.org//NONSGML kigkonsult.se iCalcreator 2.3
 0.10//
CALSCALE:GREGORIAN
METHOD:PUBLISH
UID:004d5459-0ec3-473f-add2-4a87dada8287
X-WR-CALDESC:
X-WR-RELCALID:de8ee4cf62ab308bfec802028f12fd02
X-WR-TIMEZONE:America/New_York
BEGIN:VTIMEZONE
TZID:America/New_York
BEGIN:STANDARD
TZNAME:EST
DTSTART:20201101T020000
TZOFFSETFROM:-0400
TZOFFSETTO:-0500
RDATE:20211107T020000
END:STANDARD
BEGIN:DAYLIGHT
TZNAME:EDT
DTSTART:20200308T020000
TZOFFSETFROM:-0500
TZOFFSETTO:-0400
RDATE:20210314T020000
RDATE:20220313T020000
END:DAYLIGHT
END:VTIMEZONE
BEGIN:VEVENT
UID:af0ae00c-d18b-42bd-9164-6df5023d573a
DTSTAMP:20260422T044541Z
DESCRIPTION:
DTSTART;TZID=America/New_York:20201217T183000
DTEND;TZID=America/New_York:20201217T193000
LOCATION:
SUMMARY:Colonial Nation MHS Reunion
END:VEVENT
END:VCALENDAR
