BEGIN:VCALENDAR
VERSION:2.0
PRODID:-//www.morrisedfoundation.org//NONSGML kigkonsult.se iCalcreator 2.3
 0.10//
CALSCALE:GREGORIAN
METHOD:PUBLISH
UID:de49f1fc-1cc3-4e6b-b611-71ff2fd4bce0
X-WR-CALDESC:
X-WR-RELCALID:e71883c092d8c328d4b36bfdf63e19ec
X-WR-TIMEZONE:America/New_York
BEGIN:VTIMEZONE
TZID:America/New_York
BEGIN:STANDARD
TZNAME:EST
DTSTART:20191103T020000
TZOFFSETFROM:-0400
TZOFFSETTO:-0500
RDATE:20201101T020000
END:STANDARD
BEGIN:DAYLIGHT
TZNAME:EDT
DTSTART:20200308T020000
TZOFFSETFROM:-0500
TZOFFSETTO:-0400
RDATE:20210314T020000
END:DAYLIGHT
END:VTIMEZONE
BEGIN:VEVENT
UID:658e18aa-d37c-4a3e-97ca-60ce62888af3
DTSTAMP:20260420T230515Z
DESCRIPTION:
DTSTART;TZID=America/New_York:20200311T191500
DTEND;TZID=America/New_York:20200311T210000
LOCATION:MHS Learning Commons
SUMMARY:MEF Board Meeting
END:VEVENT
END:VCALENDAR
