BEGIN:VCALENDAR
VERSION:2.0
PRODID:-//www.morrisedfoundation.org//NONSGML kigkonsult.se iCalcreator 2.3
 0.10//
CALSCALE:GREGORIAN
METHOD:PUBLISH
UID:78b69da8-f84e-4822-bb5f-a763144b6787
X-WR-CALDESC:
X-WR-RELCALID:5892ffec90e5ac82c656f5a423c58677
X-WR-TIMEZONE:America/New_York
BEGIN:VTIMEZONE
TZID:America/New_York
BEGIN:STANDARD
TZNAME:EST
DTSTART:20191103T020000
TZOFFSETFROM:-0400
TZOFFSETTO:-0500
RDATE:20201101T020000
END:STANDARD
BEGIN:DAYLIGHT
TZNAME:EDT
DTSTART:20190310T020000
TZOFFSETFROM:-0500
TZOFFSETTO:-0400
RDATE:20200308T020000
RDATE:20210314T020000
END:DAYLIGHT
END:VTIMEZONE
BEGIN:VEVENT
UID:567d0519-bf02-4774-b93c-0650db5c8905
DTSTAMP:20260420T222421Z
DESCRIPTION:
DTSTART;TZID=America/New_York:20200210T183000
DTEND;TZID=America/New_York:20200210T203000
LOCATION:MEF Office
SUMMARY:Executive Board Meeting
END:VEVENT
END:VCALENDAR
